BEGIN:VCALENDAR
VERSION:2.0
PRODID:icalendar-ruby
CALSCALE:GREGORIAN
METHOD:PUBLISH
BEGIN:VEVENT
DTSTAMP:20190228T225653Z
UID:http://www.domainnsw.com.au/property?property_id=269710
DTSTART:20161217T123000
DTEND:20161217T130000
CLASS:PUBLIC
CREATED:20180803T134047
DESCRIPTION: 
LAST-MODIFIED:20180808T110402
LOCATION:97 Highgate Street\, BEXLEY NSW 2207\, Australia
SUMMARY:97 Highgate Street\,  Auction
URL:http://www.domainnsw.com.au/property?property_id=269710
END:VEVENT
END:VCALENDAR
